BEGIN:VCALENDAR
VERSION:2.0
PRODID:-//SFBig - ECPv6.15.20//NONSGML v1.0//EN
CALSCALE:GREGORIAN
METHOD:PUBLISH
X-WR-CALNAME:SFBig
X-ORIGINAL-URL:https://sfbig.org
X-WR-CALDESC:Events for SFBig
REFRESH-INTERVAL;VALUE=DURATION:PT1H
X-Robots-Tag:noindex
X-PUBLISHED-TTL:PT1H
BEGIN:VTIMEZONE
TZID:America/Los_Angeles
BEGIN:DAYLIGHT
TZOFFSETFROM:-0800
TZOFFSETTO:-0700
TZNAME:PDT
DTSTART:20180311T100000
END:DAYLIGHT
BEGIN:STANDARD
TZOFFSETFROM:-0700
TZOFFSETTO:-0800
TZNAME:PST
DTSTART:20181104T090000
END:STANDARD
BEGIN:DAYLIGHT
TZOFFSETFROM:-0800
TZOFFSETTO:-0700
TZNAME:PDT
DTSTART:20190310T100000
END:DAYLIGHT
BEGIN:STANDARD
TZOFFSETFROM:-0700
TZOFFSETTO:-0800
TZNAME:PST
DTSTART:20191103T090000
END:STANDARD
BEGIN:DAYLIGHT
TZOFFSETFROM:-0800
TZOFFSETTO:-0700
TZNAME:PDT
DTSTART:20200308T100000
END:DAYLIGHT
BEGIN:STANDARD
TZOFFSETFROM:-0700
TZOFFSETTO:-0800
TZNAME:PST
DTSTART:20201101T090000
END:STANDARD
END:VTIMEZONE
BEGIN:VEVENT
DTSTART;TZID=America/Los_Angeles:20191002T020000
DTEND;TZID=America/Los_Angeles:20191004T100000
DTSTAMP:20260419T093025
CREATED:20190827T003816Z
LAST-MODIFIED:20190827T031740Z
UID:10000020-1569981600-1570183200@sfbig.org
SUMMARY:TechCrunch's Disrupt SF
DESCRIPTION:Attention sfBIG Members\, this year we are partnering with Disrupt SF who brings together thousands of founders\, investors\, developers\, technologists\, and business people who are interested in the startup and technology world. 74% of attendees are director level or above. The conference covers multiple technology-type tracks and startups rather than focusing on one specific topic of interest. There is something for everyone at Disrupt SF. With an expected attendance of 10\,000 this upcoming year\, this is a can’t miss event! Be sure to get your tickets today!  \n  \nWe are able to provide a 20% discount to sfBIG members on all Founder\, Innovator and Investor passes. \n  \nTo use this discount please register here and use discount code SFBIG20 at checkout. \n  \nThe Innovator pass is the most popular type. It gives you access to just about everything at Disrupt: \n\nAll stages: The Main Stage\, The Extra Crunch Stage\, Q&A Stage\, and Showcase Stage\nThe Expo Hall and Startup Alley\nInteractive workshops and networking events\nThe library of event video content post-event\nFull attendee list and the ability to contact attendees via the Disrupt mobile app\nDiscounted hotel rooms and flights\n\n  \nAnd don’t forget that there is always the Expo pass for $175 (discount does not apply)\, which gives you access to: \n\nThe Showcase Stage (excludes the other 3 stages)\nThe Expo Hall and Startup Alley\nInteractive workshops\nDiscounted hotel rooms and flights
URL:https://sfbig.org/event/techchrunchs-disrupt-sf/
LOCATION:moscone center\, 747 Howard Street\, San Francisco\, CA\, 94103\, United States
ATTACH;FMTTYPE=image/png:https://sfbig.org/wp-content/uploads/2019/08/Disrupt-SF-19-466X269.png
END:VEVENT
BEGIN:VEVENT
DTSTART;TZID=America/Los_Angeles:20191002T013000
DTEND;TZID=America/Los_Angeles:20191002T030000
DTSTAMP:20260419T093025
CREATED:20190911T040538Z
LAST-MODIFIED:20190920T000808Z
UID:10000021-1569979800-1569985200@sfbig.org
SUMMARY:Immersive Advertising Breakfast Panel
DESCRIPTION:Join the UK’s Department for International Trade team in San Francisco and SFBig for a moderated discussion at their Advertising Breakfast Panel \nMeet these talented panelists from the UK working in the multimedia and new immersive technology spaces and learn about their work with different clients and brands. \nThe goal is to discuss innovation and business models in immersive technology spaces and to exchange ideas with leaders from the UK in pioneering and pushing forward immersive use and new multimedia in experiential marketing and brand advertising. How advertising storytelling is evolving with new tech and smart consumers? How do we create a narrative and design new advertising work for the future? \nAgenda:\n8:30 am: Check-in and breakfast served at the bar area\n8:45am – 9:45am: Panel presentation\n9:45am- 10:00am: Q&A \nMeet the Panelists: \n\nsfBig\nJohn Durham\, Moderator\nTerritory Studio\nMarti Romances\, Creative Director\, panelist\nIglooVision\nJesse Rowland\, Head of Business Development\, panelist\nBomper Studio\nEmlyn Davies\, Executive Creative Director\, panelist\nLaduma\nMike Santiago\, VP of Business Development\, panelist\nRedfrog Digital\nAlessandro Mondaini\, CTO\, panelist\n2LK\nPhilip Doyne-Ditmas\, Account Director\, panelist\n\n\nTickets are available HERE\nWhere: DocuSign\, 221 Main St #1550\, San Francisco\, CA 94105 \nWhen: Wednesday\, October 2nd. 2019 – 8:30am- 10:30am.
URL:https://sfbig.org/event/immersive-advertising-breakfast/
LOCATION:DocuSign\, 221 Main St #1550\, San Francisco\, 94105\, United States
ATTACH;FMTTYPE=image/png:https://sfbig.org/wp-content/uploads/2019/09/unnamed-2.png
END:VEVENT
BEGIN:VEVENT
DTSTART;TZID=America/Los_Angeles:20190912T100000
DTEND;TZID=America/Los_Angeles:20190912T130000
DTSTAMP:20260419T093025
CREATED:20190808T011151Z
LAST-MODIFIED:20190912T010942Z
UID:10000042-1568282400-1568293200@sfbig.org
SUMMARY:Cannabis & Cocktails 3.0
DESCRIPTION:Join us for our third consecutive installment of Cannabis & Cocktails on Thursday\, September 12th to hear from experts within the industry on the present and future status of the rapidly evolving legal cannabis game. This has been a massive event the past couple of years and we expect it to be highly attended this year as well\, be sure to register early! \nCannabis & Cocktails will be hosted across the bay at Oakland’s very own Evolution Bureau! Rooted in the east bay\, Evolution Bureau prides itself on being the largest mainstream advertising agency with a department that specializes in cannabis marketing. \nThe featured speakers will be from various brands within the industry. Topics will include how the constantly changing legal status of cannabis has changed and the effects of how it is marketed to differentiating brands from negative\, stereotypical outlooks that hurt the industry. Last year Cannabis + Cocktail’s had 5 different guest speakers!
URL:https://sfbig.org/event/cannabis-cocktails-3-0/
LOCATION:EVB\, 1740 Telegraph Ave\, Oakland\, CA\, 94612\, United States
ATTACH;FMTTYPE=image/png:https://sfbig.org/wp-content/uploads/2019/08/Cannabis-Cocktails-3.0-Thursday-September-12th-2019.png
ORGANIZER;CN="SF Big":MAILTO:info@sfbig.org
END:VEVENT
BEGIN:VEVENT
DTSTART;TZID=America/Los_Angeles:20190612T010000
DTEND;TZID=America/Los_Angeles:20190617T033000
DTSTAMP:20260419T093025
CREATED:20190601T020747Z
LAST-MODIFIED:20190807T003817Z
UID:10000040-1560301200-1560742200@sfbig.org
SUMMARY:How Do Brands Use AI to Engage Customers?
DESCRIPTION:The Topic\nArtificial intelligence\, and particularly its application through voice assistants\, has the potential to transform the way that businesses connect with consumers. As the tech industry further humanizes computing\, how can marketers ethically use AI to engage customers with their brand? \nSponsor\n  \nOur Speakers\n 
URL:https://sfbig.org/event/how-do-brands-use-ai-to-engage-customers/
LOCATION:China Live\, 644 Broadway St.\, San Francisco\, CA\, 94133\, United States
ATTACH;FMTTYPE=image/jpeg:https://sfbig.org/wp-content/uploads/2019/05/Depositphotos_11317012_l-2015.jpg
ORGANIZER;CN="SF Big":MAILTO:info@sfbig.org
END:VEVENT
END:VCALENDAR