BEGIN:VCALENDAR
VERSION:2.0
PRODID:-//SFBig - ECPv6.15.20//NONSGML v1.0//EN
CALSCALE:GREGORIAN
METHOD:PUBLISH
X-WR-CALNAME:SFBig
X-ORIGINAL-URL:https://sfbig.org
X-WR-CALDESC:Events for SFBig
REFRESH-INTERVAL;VALUE=DURATION:PT1H
X-Robots-Tag:noindex
X-PUBLISHED-TTL:PT1H
BEGIN:VTIMEZONE
TZID:America/Los_Angeles
BEGIN:DAYLIGHT
TZOFFSETFROM:-0800
TZOFFSETTO:-0700
TZNAME:PDT
DTSTART:20190310T100000
END:DAYLIGHT
BEGIN:STANDARD
TZOFFSETFROM:-0700
TZOFFSETTO:-0800
TZNAME:PST
DTSTART:20191103T090000
END:STANDARD
BEGIN:DAYLIGHT
TZOFFSETFROM:-0800
TZOFFSETTO:-0700
TZNAME:PDT
DTSTART:20200308T100000
END:DAYLIGHT
BEGIN:STANDARD
TZOFFSETFROM:-0700
TZOFFSETTO:-0800
TZNAME:PST
DTSTART:20201101T090000
END:STANDARD
BEGIN:DAYLIGHT
TZOFFSETFROM:-0800
TZOFFSETTO:-0700
TZNAME:PDT
DTSTART:20210314T100000
END:DAYLIGHT
BEGIN:STANDARD
TZOFFSETFROM:-0700
TZOFFSETTO:-0800
TZNAME:PST
DTSTART:20211107T090000
END:STANDARD
END:VTIMEZONE
BEGIN:VEVENT
DTSTART;TZID=America/Los_Angeles:20200229T160000
DTEND;TZID=America/Los_Angeles:20200401T163000
DTSTAMP:20260425T082850
CREATED:20200304T024320Z
LAST-MODIFIED:20200304T031525Z
UID:14955-1582992000-1585758600@sfbig.org
SUMMARY:MEMBERS MARCH
DESCRIPTION:Welcome to Members March!\nAll of us at sfBIG are pleased to announce the beginning to Members March! This all month-long promotional period will offer discounts and other various membership and event-related incentives to members and non-members alike! \nTo provide a better experience for all of our current members\, we want to increase overall membership and get more people involved in our events and activities. The way we see it\, more active members equals increased attendance\, quantity and quality of networking and value for everyone! \nRead through the rest of this description to learn how you can save BIG during the month of March! \n \n \nDiscounts For Expired Memberships! \nExpired membership with sfBIG and need to renew? Look out for an email coming to your mailbox that will be detailing how you can renew your membership for only $100! \nThis offer will allow for those who were once members to climb back on board and rejoin for a fraction of the normal cost! Don’t let this opportunity get away from you\, make sure you sign back up and relaunch your membership this month!  Email us your contact information and we will send you a promo code! \n  \nDiscounts For New Members! \nNever been a member of BIG but very interested? We are pleased to offer discounts to new members during Members March. Each new member will be able to sign up and get $50 off there first-year membership fee! Take advantage of this opportunity before its gone!  Email us your contact information and we will send you a promo code! \n  \nDiscounts For Current Members! \nAlready have a membership? Kudos to you but guess what\, there are still ways in which you can get involved with Members March! Refer friends\, colleagues\, etc. and save your referred friend $50 off there membership fee or save yourself $50 off to one of our premier events (Cable Car Bell Ringer or Golf). Email us your Friends\, colleagues\, etc contact information and we will send you and them a promo code! \n  \nTo get any discount please email zach@catalystsf.com \nLet’s grow BIG together!!
URL:https://sfbig.org/event/members-march/
ATTACH;FMTTYPE=image/png:https://sfbig.org/wp-content/uploads/2020/03/the-month-in-review-2.png
ORGANIZER;CN="sfBIG":MAILTO:info@sfbig.org
END:VEVENT
END:VCALENDAR