BEGIN:VCALENDAR
VERSION:2.0
PRODID:-//SFBig - ECPv6.15.20//NONSGML v1.0//EN
CALSCALE:GREGORIAN
METHOD:PUBLISH
X-WR-CALNAME:SFBig
X-ORIGINAL-URL:https://sfbig.org
X-WR-CALDESC:Events for SFBig
REFRESH-INTERVAL;VALUE=DURATION:PT1H
X-Robots-Tag:noindex
X-PUBLISHED-TTL:PT1H
BEGIN:VTIMEZONE
TZID:America/Los_Angeles
BEGIN:DAYLIGHT
TZOFFSETFROM:-0800
TZOFFSETTO:-0700
TZNAME:PDT
DTSTART:20220313T100000
END:DAYLIGHT
BEGIN:STANDARD
TZOFFSETFROM:-0700
TZOFFSETTO:-0800
TZNAME:PST
DTSTART:20221106T090000
END:STANDARD
BEGIN:DAYLIGHT
TZOFFSETFROM:-0800
TZOFFSETTO:-0700
TZNAME:PDT
DTSTART:20230312T100000
END:DAYLIGHT
BEGIN:STANDARD
TZOFFSETFROM:-0700
TZOFFSETTO:-0800
TZNAME:PST
DTSTART:20231105T090000
END:STANDARD
BEGIN:DAYLIGHT
TZOFFSETFROM:-0800
TZOFFSETTO:-0700
TZNAME:PDT
DTSTART:20240310T100000
END:DAYLIGHT
BEGIN:STANDARD
TZOFFSETFROM:-0700
TZOFFSETTO:-0800
TZNAME:PST
DTSTART:20241103T090000
END:STANDARD
END:VTIMEZONE
BEGIN:VEVENT
DTSTART;TZID=America/Los_Angeles:20230329T170000
DTEND;TZID=America/Los_Angeles:20230329T193000
DTSTAMP:20260425T161356
CREATED:20230327T184012Z
LAST-MODIFIED:20230327T185050Z
UID:10000071-1680109200-1680118200@sfbig.org
SUMMARY:Wed March 29\,  Two sfBIG Pop-Up Parties! East Bay and SF
DESCRIPTION:sfBIG is having 2 Pop-Up Parties on 1 night – This Wednesday!   If you live in the East Bay\, join us at Fourth Bore in Orinda. If you are in San Francisco\, join us at Schroeder’s at 240 Front Street.
URL:https://sfbig.org/event/wed-march-29-two-sfbig-pop-up-parties-east-bay-and-sf/
LOCATION:California
END:VEVENT
END:VCALENDAR