BEGIN:VCALENDAR
VERSION:2.0
PRODID:-//SFBig - ECPv6.15.20//NONSGML v1.0//EN
CALSCALE:GREGORIAN
METHOD:PUBLISH
X-WR-CALNAME:SFBig
X-ORIGINAL-URL:https://sfbig.org
X-WR-CALDESC:Events for SFBig
REFRESH-INTERVAL;VALUE=DURATION:PT1H
X-Robots-Tag:noindex
X-PUBLISHED-TTL:PT1H
BEGIN:VTIMEZONE
TZID:America/Los_Angeles
BEGIN:DAYLIGHT
TZOFFSETFROM:-0800
TZOFFSETTO:-0700
TZNAME:PDT
DTSTART:20220313T100000
END:DAYLIGHT
BEGIN:STANDARD
TZOFFSETFROM:-0700
TZOFFSETTO:-0800
TZNAME:PST
DTSTART:20221106T090000
END:STANDARD
BEGIN:DAYLIGHT
TZOFFSETFROM:-0800
TZOFFSETTO:-0700
TZNAME:PDT
DTSTART:20230312T100000
END:DAYLIGHT
BEGIN:STANDARD
TZOFFSETFROM:-0700
TZOFFSETTO:-0800
TZNAME:PST
DTSTART:20231105T090000
END:STANDARD
BEGIN:DAYLIGHT
TZOFFSETFROM:-0800
TZOFFSETTO:-0700
TZNAME:PDT
DTSTART:20240310T100000
END:DAYLIGHT
BEGIN:STANDARD
TZOFFSETFROM:-0700
TZOFFSETTO:-0800
TZNAME:PST
DTSTART:20241103T090000
END:STANDARD
END:VTIMEZONE
BEGIN:VEVENT
DTSTART;TZID=America/Los_Angeles:20230510T170000
DTEND;TZID=America/Los_Angeles:20230510T200000
DTSTAMP:20260425T130224
CREATED:20230418T113224Z
LAST-MODIFIED:20230426T050517Z
UID:10000073-1683738000-1683748800@sfbig.org
SUMMARY:Spring Spritzer
DESCRIPTION:Spring Mixer!
URL:https://sfbig.org/event/spring-spritzer/
LOCATION:Ferry Building Wine Merchant\, 1 Ferry Building Shop 23\, San Francisco\, California\, 94111\, United States
ATTACH;FMTTYPE=image/png:https://sfbig.org/wp-content/uploads/2023/04/SpringSpritzer-HPBanner-1800-×-800-px.png
ORGANIZER;CN="SF Big":MAILTO:info@sfbig.org
END:VEVENT
END:VCALENDAR