BEGIN:VCALENDAR
VERSION:2.0
PRODID:-//SFBig - ECPv6.15.20//NONSGML v1.0//EN
CALSCALE:GREGORIAN
METHOD:PUBLISH
X-ORIGINAL-URL:https://sfbig.org
X-WR-CALDESC:Events for SFBig
REFRESH-INTERVAL;VALUE=DURATION:PT1H
X-Robots-Tag:noindex
X-PUBLISHED-TTL:PT1H
BEGIN:VTIMEZONE
TZID:America/Los_Angeles
BEGIN:DAYLIGHT
TZOFFSETFROM:-0800
TZOFFSETTO:-0700
TZNAME:PDT
DTSTART:20220313T100000
END:DAYLIGHT
BEGIN:STANDARD
TZOFFSETFROM:-0700
TZOFFSETTO:-0800
TZNAME:PST
DTSTART:20221106T090000
END:STANDARD
BEGIN:DAYLIGHT
TZOFFSETFROM:-0800
TZOFFSETTO:-0700
TZNAME:PDT
DTSTART:20230312T100000
END:DAYLIGHT
BEGIN:STANDARD
TZOFFSETFROM:-0700
TZOFFSETTO:-0800
TZNAME:PST
DTSTART:20231105T090000
END:STANDARD
BEGIN:DAYLIGHT
TZOFFSETFROM:-0800
TZOFFSETTO:-0700
TZNAME:PDT
DTSTART:20240310T100000
END:DAYLIGHT
BEGIN:STANDARD
TZOFFSETFROM:-0700
TZOFFSETTO:-0800
TZNAME:PST
DTSTART:20241103T090000
END:STANDARD
END:VTIMEZONE
BEGIN:VEVENT
DTSTART;TZID=America/Los_Angeles:20230720T170000
DTEND;TZID=America/Los_Angeles:20230720T200000
DTSTAMP:20260425T094943
CREATED:20230502T211856Z
LAST-MODIFIED:20230718T004216Z
UID:10000077-1689872400-1689883200@sfbig.org
SUMMARY:CANCELED -Content After Dark: The Next Wave of Programmatic is Creative
DESCRIPTION:Tickets Are Free for Members – You need to be logged in\n\n\n\n\n\n\n\n\n\n\n\n\n\n\n\n\n\nFor years\, the industry has been hyper-focused on data\, targeting\, privacy\, and supply chain. It makes sense as the programmatic ecosystem cleans up the pipeline for transparency and performance. The loser? Creative. Creative is one of the most influential drivers of performance… and will become ever-the-more important with the deprecation of the cookie and the challenges of a largely non-addressable ecosystem as a result.  \n\n\n\nJoin us for some drinks\, snacks\, and some lively discussion about the next wave of programmatic media and the role creative will play in driving success. \n\n\n\nAddress:  110 5th Street\, 2nd Floor – Check-in first in the lobby
URL:https://sfbig.org/event/content-after-dark-the-future-of-programmatic-is-creative/
LOCATION:Yahoo – 110 5th Street\, 2nd Floor\, 110 5th Street 2nd Floor\, San Francisco\, California\, 94103\, United States
ORGANIZER;CN="sfBIG":MAILTO:info@sfbig.org
END:VEVENT
END:VCALENDAR