BEGIN:VCALENDAR
VERSION:2.0
PRODID:-//SFBig - ECPv6.15.20//NONSGML v1.0//EN
CALSCALE:GREGORIAN
METHOD:PUBLISH
X-ORIGINAL-URL:https://sfbig.org
X-WR-CALDESC:Events for SFBig
REFRESH-INTERVAL;VALUE=DURATION:PT1H
X-Robots-Tag:noindex
X-PUBLISHED-TTL:PT1H
BEGIN:VTIMEZONE
TZID:America/Los_Angeles
BEGIN:DAYLIGHT
TZOFFSETFROM:-0800
TZOFFSETTO:-0700
TZNAME:PDT
DTSTART:20220313T100000
END:DAYLIGHT
BEGIN:STANDARD
TZOFFSETFROM:-0700
TZOFFSETTO:-0800
TZNAME:PST
DTSTART:20221106T090000
END:STANDARD
BEGIN:DAYLIGHT
TZOFFSETFROM:-0800
TZOFFSETTO:-0700
TZNAME:PDT
DTSTART:20230312T100000
END:DAYLIGHT
BEGIN:STANDARD
TZOFFSETFROM:-0700
TZOFFSETTO:-0800
TZNAME:PST
DTSTART:20231105T090000
END:STANDARD
BEGIN:DAYLIGHT
TZOFFSETFROM:-0800
TZOFFSETTO:-0700
TZNAME:PDT
DTSTART:20240310T100000
END:DAYLIGHT
BEGIN:STANDARD
TZOFFSETFROM:-0700
TZOFFSETTO:-0800
TZNAME:PST
DTSTART:20241103T090000
END:STANDARD
END:VTIMEZONE
BEGIN:VEVENT
DTSTART;TZID=America/Los_Angeles:20230823T160000
DTEND;TZID=America/Los_Angeles:20230823T160000
DTSTAMP:20260425T081014
CREATED:20230804T203656Z
LAST-MODIFIED:20230804T205114Z
UID:10000081-1692806400-1692806400@sfbig.org
SUMMARY:East Bay Pop-Up
DESCRIPTION:Happy Hour \n\n\n\n\n\nCome meet and mingle with your local sfBIG community ! \n\n\n\nStellar Wine and Craft Beer\, Food Trucks\, and Live Music by Brad Edelman
URL:https://sfbig.org/event/east-bay-pop-up/
LOCATION:Wine Thieves\, 3401 Mt. Diablo Rd\,\, Lafayette\, California\, 94549\, United States
ATTACH;FMTTYPE=image/png:https://sfbig.org/wp-content/uploads/2023/08/8-23-East-Bay-Pop-website-banner-1800-×-600-px.png
ORGANIZER;CN="sfBIG":MAILTO:info@sfbig.org
END:VEVENT
END:VCALENDAR