BEGIN:VCALENDAR
VERSION:2.0
PRODID:-//SFBig - ECPv6.15.20//NONSGML v1.0//EN
CALSCALE:GREGORIAN
METHOD:PUBLISH
X-ORIGINAL-URL:https://sfbig.org
X-WR-CALDESC:Events for SFBig
REFRESH-INTERVAL;VALUE=DURATION:PT1H
X-Robots-Tag:noindex
X-PUBLISHED-TTL:PT1H
BEGIN:VTIMEZONE
TZID:America/Los_Angeles
BEGIN:DAYLIGHT
TZOFFSETFROM:-0800
TZOFFSETTO:-0700
TZNAME:PDT
DTSTART:20230312T100000
END:DAYLIGHT
BEGIN:STANDARD
TZOFFSETFROM:-0700
TZOFFSETTO:-0800
TZNAME:PST
DTSTART:20231105T090000
END:STANDARD
BEGIN:DAYLIGHT
TZOFFSETFROM:-0800
TZOFFSETTO:-0700
TZNAME:PDT
DTSTART:20240310T100000
END:DAYLIGHT
BEGIN:STANDARD
TZOFFSETFROM:-0700
TZOFFSETTO:-0800
TZNAME:PST
DTSTART:20241103T090000
END:STANDARD
BEGIN:DAYLIGHT
TZOFFSETFROM:-0800
TZOFFSETTO:-0700
TZNAME:PDT
DTSTART:20250309T100000
END:DAYLIGHT
BEGIN:STANDARD
TZOFFSETFROM:-0700
TZOFFSETTO:-0800
TZNAME:PST
DTSTART:20251102T090000
END:STANDARD
END:VTIMEZONE
BEGIN:VEVENT
DTSTART;TZID=America/Los_Angeles:20240125T170000
DTEND;TZID=America/Los_Angeles:20240125T200000
DTSTAMP:20260423T130409
CREATED:20231219T170504Z
LAST-MODIFIED:20240201T000519Z
UID:10000087-1706202000-1706212800@sfbig.org
SUMMARY:Lunar New Year Party
DESCRIPTION:Free to Members – Tickets available for non-members $30 \n\n\n\nDRINKS\, FOOD\, NETWORKING\, CHINESE FORTUNE TELLING \n\n\n\nAND NEW YEAR\, NEW YOU HEADSHOTS! (availability will be limited)
URL:https://sfbig.org/event/lunar-new-year-party/
LOCATION:Dentsu Offices\, 650 california Street\, San Francisco\, California\, 94108\, United States
ATTACH;FMTTYPE=image/png:https://sfbig.org/wp-content/uploads/2023/12/Event-Thumbnail-Lunar-New-Year.png
ORGANIZER;CN="sfBIG":MAILTO:info@sfbig.org
END:VEVENT
BEGIN:VEVENT
DTSTART;TZID=America/Los_Angeles:20240131T170000
DTEND;TZID=America/Los_Angeles:20240131T183000
DTSTAMP:20260423T130409
CREATED:20240104T185015Z
LAST-MODIFIED:20240119T200021Z
UID:10000321-1706720400-1706725800@sfbig.org
SUMMARY:Mentor Program - Sign up
DESCRIPTION:CONFIRMATION OF PARTICIPATION DUE ON JANUARY 31 \n\n\n\n\n\n \n\n\n\nFor more information check out www.baarc.com/mentoring or email mentor@sfBIG.org \n\n\n\n\n\n\n\nSign up to be a MENTOR or a MENTEE here https://forms.gle/owTHYZFC4DQRjt2V6
URL:https://sfbig.org/event/2024-mentorship-program/
LOCATION:California
ATTACH;FMTTYPE=image/jpeg:https://sfbig.org/wp-content/uploads/2024/01/APPS-OPEN-Mentor-Program-FBLI-pt.2.jpg
ORGANIZER;CN="sfBIG":MAILTO:info@sfbig.org
END:VEVENT
END:VCALENDAR