BEGIN:VCALENDAR
VERSION:2.0
PRODID:-//SFBig - ECPv6.15.20//NONSGML v1.0//EN
CALSCALE:GREGORIAN
METHOD:PUBLISH
X-ORIGINAL-URL:https://sfbig.org
X-WR-CALDESC:Events for SFBig
REFRESH-INTERVAL;VALUE=DURATION:PT1H
X-Robots-Tag:noindex
X-PUBLISHED-TTL:PT1H
BEGIN:VTIMEZONE
TZID:America/Los_Angeles
BEGIN:DAYLIGHT
TZOFFSETFROM:-0800
TZOFFSETTO:-0700
TZNAME:PDT
DTSTART:20230312T100000
END:DAYLIGHT
BEGIN:STANDARD
TZOFFSETFROM:-0700
TZOFFSETTO:-0800
TZNAME:PST
DTSTART:20231105T090000
END:STANDARD
BEGIN:DAYLIGHT
TZOFFSETFROM:-0800
TZOFFSETTO:-0700
TZNAME:PDT
DTSTART:20240310T100000
END:DAYLIGHT
BEGIN:STANDARD
TZOFFSETFROM:-0700
TZOFFSETTO:-0800
TZNAME:PST
DTSTART:20241103T090000
END:STANDARD
BEGIN:DAYLIGHT
TZOFFSETFROM:-0800
TZOFFSETTO:-0700
TZNAME:PDT
DTSTART:20250309T100000
END:DAYLIGHT
BEGIN:STANDARD
TZOFFSETFROM:-0700
TZOFFSETTO:-0800
TZNAME:PST
DTSTART:20251102T090000
END:STANDARD
END:VTIMEZONE
BEGIN:VEVENT
DTSTART;TZID=America/Los_Angeles:20240213T160000
DTEND;TZID=America/Los_Angeles:20240213T180000
DTSTAMP:20260423T111649
CREATED:20240109T233952Z
LAST-MODIFIED:20240208T163639Z
UID:10000322-1707840000-1707847200@sfbig.org
SUMMARY:Retail Media
DESCRIPTION:Content starts at 4:45pm – Sponsored by Aki \n\n\n\n\n\n\n\nTHE TRANSFORMATION OF THE RETAIL MEDIA LANDSCAPE.  The retail media/commerce landscape is experiencing surging popularity and transformation. Numerous driving forces are causing irreversible changes from post pandemic shopping behavior\, the rapid rise of AI & automatization\, disappearing cookies and advancements in shoppable digital technologies. \n\n\n\nBut while these changes are occurring\, whether for good or evil\, which can (and will!) be debated\, the need for brands to drive consideration and loyalty has remained a constant. Against this backdrop\, the panel’s goal is to illuminate insights and ideas about understanding and navigating the evolving retail landscape to deliver increased marketing effectiveness. \n\n\n\nTo help us dissect and distill this topic\, we’ve assembled an esteemed group of panelists who represent the various sides of retail marketing to share their insights\, best practices\, and predictions for the year ahead. \n\n\n\n\n\n\n\nModerated by: Chris Portella\, EVP\, Global Managing Partner\, UM  \n\n\n\nPanelist: Casey Harsh\, VP Commerce\, UM \, Evan Fjeld\, Senior Product Manager\, The Trade Desk\, Carolyn Parodi\, Client Business Lead\, PHD \n\n\n\nJoin us for engaging conversation\, snacks\, drinks\, and everything you need to know about the Retail landscape..
URL:https://sfbig.org/event/retail-media/
LOCATION:UM\, 45 Fremont Street\, SAN FRANCISCO\, California\, 94105
ATTACH;FMTTYPE=image/png:https://sfbig.org/wp-content/uploads/2024/01/IG-RetailMedia-thumbnail-.png
ORGANIZER;CN="sfBIG":MAILTO:info@sfbig.org
END:VEVENT
END:VCALENDAR