BEGIN:VCALENDAR
VERSION:2.0
PRODID:-//SFBig - ECPv6.15.20//NONSGML v1.0//EN
CALSCALE:GREGORIAN
METHOD:PUBLISH
X-ORIGINAL-URL:https://sfbig.org
X-WR-CALDESC:Events for SFBig
REFRESH-INTERVAL;VALUE=DURATION:PT1H
X-Robots-Tag:noindex
X-PUBLISHED-TTL:PT1H
BEGIN:VTIMEZONE
TZID:America/Los_Angeles
BEGIN:DAYLIGHT
TZOFFSETFROM:-0800
TZOFFSETTO:-0700
TZNAME:PDT
DTSTART:20230312T100000
END:DAYLIGHT
BEGIN:STANDARD
TZOFFSETFROM:-0700
TZOFFSETTO:-0800
TZNAME:PST
DTSTART:20231105T090000
END:STANDARD
BEGIN:DAYLIGHT
TZOFFSETFROM:-0800
TZOFFSETTO:-0700
TZNAME:PDT
DTSTART:20240310T100000
END:DAYLIGHT
BEGIN:STANDARD
TZOFFSETFROM:-0700
TZOFFSETTO:-0800
TZNAME:PST
DTSTART:20241103T090000
END:STANDARD
BEGIN:DAYLIGHT
TZOFFSETFROM:-0800
TZOFFSETTO:-0700
TZNAME:PDT
DTSTART:20250309T100000
END:DAYLIGHT
BEGIN:STANDARD
TZOFFSETFROM:-0700
TZOFFSETTO:-0800
TZNAME:PST
DTSTART:20251102T090000
END:STANDARD
END:VTIMEZONE
BEGIN:VEVENT
DTSTART;TZID=America/Los_Angeles:20240321T120000
DTEND;TZID=America/Los_Angeles:20240321T180000
DTSTAMP:20260423T094311
CREATED:20240229T180813Z
LAST-MODIFIED:20240320T174407Z
UID:10000323-1711022400-1711044000@sfbig.org
SUMMARY:March Madness Kick-off Party
DESCRIPTION:Pop on over at any point during the game to watch the kick-off games\, have some food and drinks.  Games and prizes throughout the day thanks to our Bar Sponsor – Digital Turbine! \n\n\n\nPLEASE RSVP BY CLICKING HERE \n\n\n\n \n\n\n\n\n\n\n\n CLICK HERE TO FILL OUT YOUR BRACKET – Password: Community \n\n\n\nBrackets must be completed by Thursday 9am to win $100!
URL:https://sfbig.org/event/march-madness-kick-off-party/
LOCATION:Trinity Bar\, 1851 Union St\, SAN FRANCISCO\, California\, 94123
ATTACH;FMTTYPE=image/png:https://sfbig.org/wp-content/uploads/2024/02/March-Madness-Feat-Image-1080-x-750-px.png
ORGANIZER;CN="sfBIG":MAILTO:info@sfbig.org
END:VEVENT
END:VCALENDAR