BEGIN:VCALENDAR
VERSION:2.0
PRODID:-//SFBig - ECPv6.15.20//NONSGML v1.0//EN
CALSCALE:GREGORIAN
METHOD:PUBLISH
X-WR-CALNAME:SFBig
X-ORIGINAL-URL:https://sfbig.org
X-WR-CALDESC:Events for SFBig
REFRESH-INTERVAL;VALUE=DURATION:PT1H
X-Robots-Tag:noindex
X-PUBLISHED-TTL:PT1H
BEGIN:VTIMEZONE
TZID:America/Los_Angeles
BEGIN:DAYLIGHT
TZOFFSETFROM:-0800
TZOFFSETTO:-0700
TZNAME:PDT
DTSTART:20200308T100000
END:DAYLIGHT
BEGIN:STANDARD
TZOFFSETFROM:-0700
TZOFFSETTO:-0800
TZNAME:PST
DTSTART:20201101T090000
END:STANDARD
BEGIN:DAYLIGHT
TZOFFSETFROM:-0800
TZOFFSETTO:-0700
TZNAME:PDT
DTSTART:20210314T100000
END:DAYLIGHT
BEGIN:STANDARD
TZOFFSETFROM:-0700
TZOFFSETTO:-0800
TZNAME:PST
DTSTART:20211107T090000
END:STANDARD
BEGIN:DAYLIGHT
TZOFFSETFROM:-0800
TZOFFSETTO:-0700
TZNAME:PDT
DTSTART:20220313T100000
END:DAYLIGHT
BEGIN:STANDARD
TZOFFSETFROM:-0700
TZOFFSETTO:-0800
TZNAME:PST
DTSTART:20221106T090000
END:STANDARD
END:VTIMEZONE
BEGIN:VEVENT
DTSTART;TZID=America/Los_Angeles:20211104T100000
DTEND;TZID=America/Los_Angeles:20211104T160000
DTSTAMP:20260425T080354
CREATED:20210817T023606Z
LAST-MODIFIED:20211027T015654Z
UID:18797-1636020000-1636041600@sfbig.org
SUMMARY:sfBIG's Party in The Presidio
DESCRIPTION:It’s A Par-Tee In The Presidio!\n \nsfBIG’s Annual Golf Tournament is back for the 7th year in a row at the gorgeous Presidio Golf Course! \nThis year we are hosting The Party in the Presidio and are going BIGger than we ever have before for this event. This will be our biggest event of the year combining the sfBIG annual golf tournament with an in-person social event from 12 pm-3 pm at the Presidio while the golf tournament is taking place. We will have our annual golf tournament back to a full 144 golfers this year as well as during the tournament an opportunity for people to hang out with the gathering agencies\, brands\, publishers\, tech partners\, and all our members who come on out to connect\, and most importantly NETWORK! Whether you’re in it to win the tournament or just looking to stop by to have a drink and socialize we have all the options for you!  \nThis is a full-day event so be sure to get time off\, dust off your clubs\, and practice your swing!  The Tournament is set for Thursday\, November 4th at the Presidio Golf Course. We are expecting a sell-out event so please secure your tickets NOW! \n\nRegistration/check-in: 11:00 am\nTee-Off: 12:00 pm\n\nIn correspondence with new legislation passed by the city of San Francisco\, sfBIG will require all in-person attendees to provide/show proof of their Covid-19 vaccination in order to attend. \n \n\nThank You To This Years Sponsors!\n \nOur Sponsors: \nMediasmith                           Yahoo                                      Samba TV                                   T-Mobile                             ViralGains \n           LoopMe                      WSJ Barrons Group                      Vistar Media                                   VIZIO                                    GSTV \n           Adomni                   Media Matters Worldwide                      MiQ                                    Apollo Partners                     Zeta Global \n           Simpli.fi                                Kargo                                           Sightly                                    Future PLC                          Adtheorent \n           Audacy                          The Trade Desk                                Taboola                                       Billups                              Flashtalking \n                           Mediaocean                                                                                                                                        Causwells \nInterested in being a sponsor?\nSponsorship options are available now but are going fast. For this year\, sponsors will have the ability to create their own booth at the Presidio with signage\, swag\, and an employee running the booth to interact with golf players\, other sponsors\, and people just coming to the cocktail event. \nSponsors will also have a traveling brand ambassador that can be carted around\nto each hole to interact with players after they hit from the Tee Box. \nWe also have opportunities for sponsorships at the social mixer during the tournament. This is a great way to get your business in front of brands\, agencies\, and members of the sfBIG community. \nSponsorship Opportunities: Welcome Sponsor\, Drink Cart Sponsor (Cart for Sponsor)\, Driving Range Sponsor\, Lunch Box Sponsor\, Mask Sponsor\, Day Event Sponsor (Open Bar)\, Closest to the pin Sponsors\, Individual Hole Sponsors\, Hole In One Sponsor\, Playbook Sponsor \nIf you are interested in being a sponsor or have more questions reach out to zach@catalystsf.com or Chris.klein@flashtalking.com
URL:https://sfbig.org/event/sfbigs-party-in-the-presidio/
LOCATION:Presidio Golf Course\, 300 Finley Rd\, San Francisco\, CA\, 94129\, United States
ATTACH;FMTTYPE=image/png:https://sfbig.org/wp-content/uploads/2021/08/LL-Featured-Images-26-1.png
ORGANIZER;CN="sfBIG":MAILTO:info@sfbig.org
END:VEVENT
END:VCALENDAR