BEGIN:VCALENDAR
VERSION:2.0
PRODID:-//SFBig - ECPv6.15.20//NONSGML v1.0//EN
CALSCALE:GREGORIAN
METHOD:PUBLISH
X-ORIGINAL-URL:https://sfbig.org
X-WR-CALDESC:Events for SFBig
REFRESH-INTERVAL;VALUE=DURATION:PT1H
X-Robots-Tag:noindex
X-PUBLISHED-TTL:PT1H
BEGIN:VTIMEZONE
TZID:America/Los_Angeles
BEGIN:DAYLIGHT
TZOFFSETFROM:-0800
TZOFFSETTO:-0700
TZNAME:PDT
DTSTART:20220313T100000
END:DAYLIGHT
BEGIN:STANDARD
TZOFFSETFROM:-0700
TZOFFSETTO:-0800
TZNAME:PST
DTSTART:20221106T090000
END:STANDARD
BEGIN:DAYLIGHT
TZOFFSETFROM:-0800
TZOFFSETTO:-0700
TZNAME:PDT
DTSTART:20230312T100000
END:DAYLIGHT
BEGIN:STANDARD
TZOFFSETFROM:-0700
TZOFFSETTO:-0800
TZNAME:PST
DTSTART:20231105T090000
END:STANDARD
BEGIN:DAYLIGHT
TZOFFSETFROM:-0800
TZOFFSETTO:-0700
TZNAME:PDT
DTSTART:20240310T100000
END:DAYLIGHT
BEGIN:STANDARD
TZOFFSETFROM:-0700
TZOFFSETTO:-0800
TZNAME:PST
DTSTART:20241103T090000
END:STANDARD
BEGIN:DAYLIGHT
TZOFFSETFROM:-0800
TZOFFSETTO:-0700
TZNAME:PDT
DTSTART:20250309T100000
END:DAYLIGHT
BEGIN:STANDARD
TZOFFSETFROM:-0700
TZOFFSETTO:-0800
TZNAME:PST
DTSTART:20251102T090000
END:STANDARD
BEGIN:DAYLIGHT
TZOFFSETFROM:-0800
TZOFFSETTO:-0700
TZNAME:PDT
DTSTART:20260308T100000
END:DAYLIGHT
BEGIN:STANDARD
TZOFFSETFROM:-0700
TZOFFSETTO:-0800
TZNAME:PST
DTSTART:20261101T090000
END:STANDARD
END:VTIMEZONE
BEGIN:VEVENT
DTSTART;TZID=America/Los_Angeles:20250516T100000
DTEND;TZID=America/Los_Angeles:20250516T170000
DTSTAMP:20260423T080600
CREATED:20250411T123412Z
LAST-MODIFIED:20250603T171946Z
UID:10000337-1747389600-1747414800@sfbig.org
SUMMARY:2025 Pickleball Tournament
DESCRIPTION:Back for its third year and raising the bar\, this is sfBIG’s Pickleball Tournament like you’ve never seen it before. This high-energy day of play is more than just a tournament; it’s one of the largest and most anticipated events on the sfBIG calendar. \n\n\n\nTeams of two will be organized in advance of the tournament day\, so whether you’re signing up with a partner or looking to be matched with one\, we’ll handle the logistics so you can focus on bringing your A-game. All gear is provided. \n\n\n\nThe day kicks off with a Pickleball Pro Clinic\, perfect for beginners or anyone looking to warm up before the games begin. Once the tournament is underway\, teams compete for the chance to take the podium\, win prizes\, and earn their place on the coveted sfBIG trophy.  \n\n\n\nWe highly encourage everyone to pick up a paddle and join the game\, but there’s something for everyone\, even if you don’t plan to play. Each ticket includes access to an open bar\, lunch and snacks (with dietary accommodations available)\, and unlimited use of Bay Club facilities—including the pool\, ping pong\, cornhole\, and more. Throughout the day\, sponsors across the venue have games\, giveaways\, shaded lounges\, and interactive experiences that keep the fun going between matches. \n\n\n\n\n\nThank You To our Sponsors!
URL:https://sfbig.org/event/2025-pickleball-tournament/
LOCATION:Bay Club Gateway\, 370 Drumm St\, San Francisco\, California\, 94111\, United States
ATTACH;FMTTYPE=image/jpeg:https://sfbig.org/wp-content/uploads/2025/04/sfBIG-Pickleball-Logo.jpg
ORGANIZER;CN="sfBIG":MAILTO:info@sfbig.org
END:VEVENT
BEGIN:VEVENT
DTSTART;TZID=America/Los_Angeles:20240517T120000
DTEND;TZID=America/Los_Angeles:20240517T170000
DTSTAMP:20260423T080600
CREATED:20240305T070656Z
LAST-MODIFIED:20240515T194251Z
UID:10000325-1715947200-1715965200@sfbig.org
SUMMARY:Pickleball Tournament
DESCRIPTION:Get ready to rally at SFBig’s fastest-growing event! Join us for a day of dinks\, drinks\, and friendly competition at the beautiful Bay Club Gateway in San Francisco. \n\n\n\nThis marks our 2nd Annual SFBig Pickleball Tournament. Last year was a hit & we are excited to bring you some fun new additions to this year’s outing. Grab a friend\, a colleague\, or a client and join in on the fun. All attendees will have a chance to compete in teams of 2 for top prizes in the Pickleball Tournament. \n\n\n\n\nNever played? We’ll have pickleball pros on site teaching the basics of the game and providing tips to compete with the best of em. \n\n\n\nNo pickle partner? We’ll pair you with one upon arrival.\n\n\n\n\nPickling isn’t your thing? Enjoy refreshments\, food\, lawn games\, and DJ beats while cheering on your friends or mingling with the best in the industry. \n\n\n\nTickets include: Open Bar\, Lunch + Snacks\, Access to 6 Pickleball Courts + Gear\, Beats from DJ Lo-Qui\, Awards\, and unlimited use of Bay Club facilities including Pool\, Cornhole\, Ping Pong and MORE!
URL:https://sfbig.org/event/pickleball-tournament/
LOCATION:Bay Club Gateway\, 370 Drumm St\, San Francisco\, California\, 94111\, United States
ATTACH;FMTTYPE=image/png:https://sfbig.org/wp-content/uploads/2024/03/IG-Pickleball.png
ORGANIZER;CN="sfBIG":MAILTO:info@sfbig.org
END:VEVENT
BEGIN:VEVENT
DTSTART;TZID=America/Los_Angeles:20230615T120000
DTEND;TZID=America/Los_Angeles:20230615T170000
DTSTAMP:20260423T080600
CREATED:20230419T144827Z
LAST-MODIFIED:20230605T155028Z
UID:10000075-1686830400-1686848400@sfbig.org
SUMMARY:Pickleball Tournament & Summer Soiree
DESCRIPTION:EACH TICKET INCLUDES: Open Bar\, Lunch\, a Pickleball spot\, Unlimited use of Pool and facilities – including hot tub\, Cornhole\, Ping Pong\, Music\, Snacks\, Awards\, and FUN! \n\n\n\nPICKLEBALL WORKS IN TEAMS OF 2 – Build a company team\, a friend team\, a client team or whatever you choose. There will be prizes and team “uniforms” are encouraged. If you don’t have a partner we can pair you with another player \n\n\n\nDON’T FEEL LIKE PLAYING PICKLEBALL? No problem! Be a spectator and cheer the teams on\, play cornhole\, play ping pong\, dance to the music or lounge by the pool with a drink in hand. \n\n\n\n\n\n\n\n\n\n\n\n\n\n\n\n\n\nPickleball is the fastest growing sport in America! Come out to see what the hype is all about or show off your skills. For the seasoned players\, you’ll have a chance to compete for the top prize in teams of 2 – grab a friend\, a colleague\, or a client and join in on the fun. If you’ve never played\, come out and learn the basics of the game from a Bay Club expert. If pickling isn’t your thing? No Sweat… POOL PARTY! DRINKS! FOOD! GAMES & PRIZES! All attendees will have full access to the Bay Club Gateway for the day – be a spectator and cheer the teams on or lounge by the pool with a drink in hand. \n\n\n\n\nSPONSORSHIPS STILL AVAILABLE –  we will work with you if you have something special in mind Email: Sponsorship@sfBIG.org\n\nPresenting Sponsor\n\n\n\nTournament Sponsor\n\n\n\nCourt Sponsors\n\n\n\nBar Sponsor\n\n\n\nLunch Sponsor\n\n\n\nMusic Sponsor\n\n\n\nAwards Sponsor\n\n\n\nPhotography Sponsor\n\n\n\nSpecialty Experience Sponsors (Snowcones\, Massages\, Cornhole\, Dessert\, etc)\n\n\n\nAnd More!
URL:https://sfbig.org/event/summer-soiree/
LOCATION:Bay Club Gateway\, 370 Drumm St\, San Francisco\, California\, 94111\, United States
ATTACH;FMTTYPE=image/jpeg:https://sfbig.org/wp-content/uploads/2023/04/23-Summer-Soiree-HPBanner-1800-×-800-px.jpg
ORGANIZER;CN="SF Big":MAILTO:info@sfbig.org
END:VEVENT
END:VCALENDAR