BEGIN:VCALENDAR
VERSION:2.0
PRODID:-//SFBig - ECPv6.15.20//NONSGML v1.0//EN
CALSCALE:GREGORIAN
METHOD:PUBLISH
X-ORIGINAL-URL:https://sfbig.org
X-WR-CALDESC:Events for SFBig
REFRESH-INTERVAL;VALUE=DURATION:PT1H
X-Robots-Tag:noindex
X-PUBLISHED-TTL:PT1H
BEGIN:VTIMEZONE
TZID:America/Los_Angeles
BEGIN:DAYLIGHT
TZOFFSETFROM:-0800
TZOFFSETTO:-0700
TZNAME:PDT
DTSTART:20210314T100000
END:DAYLIGHT
BEGIN:STANDARD
TZOFFSETFROM:-0700
TZOFFSETTO:-0800
TZNAME:PST
DTSTART:20211107T090000
END:STANDARD
BEGIN:DAYLIGHT
TZOFFSETFROM:-0800
TZOFFSETTO:-0700
TZNAME:PDT
DTSTART:20220313T100000
END:DAYLIGHT
BEGIN:STANDARD
TZOFFSETFROM:-0700
TZOFFSETTO:-0800
TZNAME:PST
DTSTART:20221106T090000
END:STANDARD
BEGIN:DAYLIGHT
TZOFFSETFROM:-0800
TZOFFSETTO:-0700
TZNAME:PDT
DTSTART:20230312T100000
END:DAYLIGHT
BEGIN:STANDARD
TZOFFSETFROM:-0700
TZOFFSETTO:-0800
TZNAME:PST
DTSTART:20231105T090000
END:STANDARD
END:VTIMEZONE
BEGIN:VEVENT
DTSTART;TZID=America/Los_Angeles:20220920T170000
DTEND;TZID=America/Los_Angeles:20220920T170000
DTSTAMP:20260425T194001
CREATED:20220823T220412Z
LAST-MODIFIED:20220914T174008Z
UID:10000062-1663693200-1663693200@sfbig.org
SUMMARY:Content After Dark: Her Success
DESCRIPTION:Members Receive Discounted Tickets – Log In to Receive Automated Member Pricing\n\n\n\n\n\n\n\n\n\nOur Speakers\n\n\n\n\nDanisha Lomax \n\n\n\nHead of Media (West) & Paid Media \n\n\n\nDigitas \n\n\n\n\n\n\n\n\n\n\n\n\nDanisha is a connector by nature and practice. As SVP/National Paid Social Lead & Head of Media (West Coast) at Digitas\, she takes pride in developing work that focuses on impact\, advocacy\, and empowerment of historically under resourced communities and the most marginalized or exploited communities. With over a decade of experience in media\, Danisha continues to evolve her craft\, and her deep knowledge of digital and social is just the tip of the iceberg.  \n\n\n\nAt Digitas\, Danisha oversees a team of digital and social experts who create purposeful and scalable activations for the agency and its clients. She helps clients expand their use-cases for media and marketing with an authentic\, culture-first approach. This thinking has allowed her to win multiple prestigious awards\, including Chief Marketer’s Market like a Mother (2021)\, CampaignUS Media Planner of the year (2021)\, and the TribecaX Feature Film (2022). \n\n\n\n\n\n\n\n\n\n\n\n\n\n\nLindsie Colins \n\n\n\nHead of U.S. Consumer Integrated Marketing \n\n\n\nInstagram \n\n\n\n\n\n\n\nConsumer integrated marketing and brand performance leader with 15+ years of experience driving innovation and the development\, communication\, and execution of marketing strategies. Proven track record as an innovative thinker who has managed top brands\, launched new products\, and led multi-platform campaigns and creator-led influencer strategies. Energized by growing and motivating best-in-class marketing teams who succeed together #oneteamonedream. \n\n\n\n\n\n\nAnna Magzanyan \n\n\n\nChief Strategy & Revenue Officer and Chief of Staff to the Executive Chairman \n\n\n\nLos Angeles Times \n\n\n\n\n\n\nAnna Magzanyan is Chief of Staff to the Executive Chairman and Head of Strategy and Revenue for the Los Angeles Times. Having previously served as The Times’ vice president of advertiser marketing and events\, Magzanyan returned in 2020 following nine years working in digital\, broadcast and print media. \n\n\n\nPrior to rejoining The Times\, Magzanyan was the publisher and CEO of the Los Angeles Business Journal where she led year-over-year audience and revenue growth during her three-year tenure. She has also held executive roles in marketing and partnerships at the Hollywood Reporter and iHeart Radio\, and was a strategy and business development consultant for the Houston Chronicle\, Cretan Pearl Resort and Omnia Media\, among others. \n\n\n\n\n\n\nSara Gotfredson \n\n\n\nVP\, Ad Partnerships \n\n\n\nDisney/ESPN \n\n\n\n\n\n\nSara Gotfredson is Vice President\, Disney Advertising Sales\, a  20+ year media industry veteran and digital native.  Sara has been innovating with ESPN/Disney for more than 17 years working in San Francisco\, Chicago & Los Angeles offices. As a proud supporter and advocate for women’s sports throughout her career at ESPN\, Sara recently announced she was leaving Disney at the end of September of 2022 to start Trailblazing Sports Group\, an advisory firm focused on brand building & media investment in women’s sports. \n\n\n\nIn her role at Disney\, Sara leads a national sales team in setting strategy and driving revenue for The Walt Disney Company overseeing a roster of Technology & Telecommunications clients including Apple\, Amazon\, AT&T\, Google\, Meta\,and others. Previously\, Sara oversaw the west coast advertising sales business for ESPN partnering with Fortune 100 companies across technology\, retail\, auto\, telco and entertainment/streaming verticals. \n\n\n\n\n\n\nSarah Miles \n\n\n\nCo-Founder \n\n\n\nThe Collectively Co \n\n\n\n\n\n\nWith a background in pediatric health\, I worked for several years as a nurse practitioner\, feeding my passion to care for children in an inpatient and outpatient setting. Upon having my first child\, I took a break from nursing to raise our daughter and took a chance on another passion\, working for myself. Over the past several years I’ve been involved with a variety of companies\, helping them to build and grow. I continue to work as the COO and Marketing Director for author Darryl Nyznyk\, and simultaneously work on my independent children’s books. In the midst of each of these transitions I struggled with my “what now” moment. This is ultimately how Collectively was born.  \n\n\n\nIn discussions with women\, we found that the fear\, uncertainty\, lack of support and resources added to the already challenging task of navigating their career while also managing the many other responsibilities we as women have. Collectively was created with the goal to offer support during these moments in life. Our efforts are focused on truly understanding our client’s needs while consistently growing a premier list of Partners that can help women make the career transitions they are looking for. \n\n\n\n\n\nReneta Jenik \n\n\n\nFounder & CEO \n\n\n\nFoodom \n\n\n\n\n\nReneta Jenik the the founder and CEO Foodom\, everyone’s private chef marketplace that connects vetted chefs and busy families to cook 1-2 times a week in the family’s kitchen\, starting at $100 per week. Our asset-light model is doing to commercial kitchens what Uber did to taxis and Airbnb did to hotels and we operate in an area free of restrictive regulation in a $2T market. We are available in California in LA\, the Bay Area and the Sacramento areas\, and plan to expand fast to other areas this year.  \n\n\n\nReneta spent 13 years at SanDisk\, WD\, and Intel managing technology products\, marketing\, and business operations driving growing businesses from a few millions to billions of dollars in the semiconductor industry\, mastering elasticity models\, balancing supply/demand and leading product teams to focus on what matters the most. In her last role at Intel\, she led AI/ML technology and product implementations on most of the laptops in the world. She developed expertise in leadership\, execution as well as profitable business models\, pricing\, and monetization of opportunities\, focusing on win-win strategies and with a deep social and environmental cause. She is passionate about conscious leadership and creating a meaningful impact in the world by improving wellbeing and health through reduced stress\, healthy eating and strong community support\, as well as creating new high paying jobs and reducing food and packaging waste. \n\n\n\n\nFree for sfBIG Members so Sign Up Now
URL:https://sfbig.org/event/content-after-dark-her-success/
LOCATION:Lightbox Cafe\, 221 Main St\, San Francisco\, CA\, 94105\, United States
ATTACH;FMTTYPE=image/png:https://sfbig.org/wp-content/uploads/2022/09/Content-After-Dark-Presents.png
END:VEVENT
END:VCALENDAR